BEGIN:VCALENDAR
VERSION:2.0
PRODID:-//DP Pro Event Calendar//3.0.5//EN
BEGIN:VEVENT
UID:62033e55-5b25-4ad2-8d1a-d2c6bc2becf9
DTSTART;TZID=America/New_York:20190928T100000
DTEND;TZID=America/New_York:20190928T100000
DTSTAMP:20190923T184753Z
SUMMARY:Xingyiquan / Form-Intention Boxing / Chinese Internal Martial Art
DESCRIPTION:Xingyiquan (Form-Intention Boxing) is a style of Chinese internal martial arts that emphasizes simple linear movements\, always done in smooth coordination with the breath.\r \n \r \n Classes are a mix of conditioning\, solo forms\, and two-person exercises that build strength and create movement patterns that are whole-body and integrated\, while developing a sense of a "real-time" martial art.\r \n \r \n Even though xingyiquan is considered a "soft" art\, its training is vigorous\, and its application as a martial art is highly effective. Xingyiquan can be trained for health and well-being\, or for self-defense.\r \n \r \n Taught by Stefan Grace\, who has fifteen years of experience training and teaching xingyiquan with some of China and North America's highest level xingyi practitioners.\r \n \r \n Classes held Saturday mornings at 10am\, 63 Western Avenue\, Brattleboro.\r \n \r \n $5 to $10 suggested donation.\r \n \r \n For more information on class content\, times and locations:\r \n \r \n (503) 913-8551 / 12redhammers@gmail.com
LOCATION:63 Western Avenue
URL:https://stefan-grace-lac.squarespace.com/
ATTACH;FMTTYPE=image/jpeg:https://www.ibrattleboro.com/wp-content/uploads/2019/09/26102_1569272650_2ad10e77cbe26fe925be7def402100a6.jpg
END:VEVENT
END:VCALENDAR