BEGIN:VCALENDAR
VERSION:2.0
PRODID:-//DP Pro Event Calendar//3.0.5//EN
BEGIN:VEVENT
UID:05db4ce8-d457-4e86-8a91-8001eddbf8b5
DTSTART;TZID=America/New_York:20230704T093000
DTEND;TZID=America/New_York:20230704T110000
DTSTAMP:20230620T164549Z
SUMMARY:March with Action Corps Vermont in Brattleboro Parade!
DESCRIPTION:Action Corps campaigns for US policies to save lives around the world.\r \n You'll find us with our long 'Action Corps' banner plus an blue and green Earth banner.\r \n We'll be lining up by 9:30\; the parade kicks off at 10. Show up and join in!\r \n \r \n https://www.actioncorps.org/\r \n \r \n &nbsp\;
LOCATION:
URL:
END:VEVENT
END:VCALENDAR