BEGIN:VCALENDAR
VERSION:2.0
PRODID:-//DP Pro Event Calendar//3.0.5//EN
BEGIN:VEVENT
UID:71dd44af-ec8c-4ea9-a013-e3d2f2a4f9fe
DTSTART;TZID=America/New_York:20230704T143000
DTEND;TZID=America/New_York:20230704T143000
DTSTAMP:20230626T124149Z
SUMMARY:July 4th Concert
DESCRIPTION:\r \n JUL\r \n 4\r \n  \r \n July 4th Celebration\r \n \r \n \r \n  	Tuesday\, July 4\, 2023\r \n  	2:30 PM  3:30 PM\r \n \r \n The Windham Philharmonic together with the Brattleboro American Legion Band and other local musicians will be giving our annual July 4th Celebration concert\, hosted by the Winston Prouty Center at 209 Austine Drive in Brattleboro.  Repertoire will feature Berlioz’ Grande symphonie funèbre et triomphale\, Handel’s Music for the Royal Fireworks\, as well as some more traditional marches. This will be an outdoor performance\, so please bring blankets and chairs. Food will be available for sale.\r \n Admission by donation.\r \n 
LOCATION:
URL:
END:VEVENT
END:VCALENDAR