BEGIN:VCALENDAR
VERSION:2.0
PRODID:-//DP Pro Event Calendar//3.0.5//EN
BEGIN:VEVENT
UID:25928502-0e53-44d1-b452-33b768456215
DTSTART;TZID=America/New_York:20230704T174500
DTEND;TZID=America/New_York:20230704T174500
DTSTAMP:20230629T112706Z
SUMMARY:NECCA at Brattleboro Goes Fourth
DESCRIPTION:NECCA entertains at Brattleboro's Fourth of July celebrations. Featuring student aerialists and acrobats who will amaze and entertain you. NECCA is a non-profit whose mission is using the transformative power of circus arts to enable a diverse and inclusive community of artists\, teachers and students to realize their dreams. One show: 5:45 pm.
LOCATION:Memorial Park Drive\, Brattleboro\, VT
URL:https://necenterforcircusarts.org/performances/
ATTACH;FMTTYPE=image/jpeg:https://www.ibrattleboro.com/wp-content/uploads/2023/06/13194_1688052426_c137b1d6f93627b55a3c2f9765283b2c-640x426.jpg
END:VEVENT
END:VCALENDAR