BEGIN:VCALENDAR
VERSION:2.0
PRODID:-//DP Pro Event Calendar//3.0.5//EN
BEGIN:VEVENT
UID:da45dd24-beed-4604-b5a9-187d07e62223
DTSTART;TZID=America/New_York:20230706T160000
DTEND;TZID=America/New_York:20230706T160000
DTSTAMP:20230601T082750Z
SUMMARY:You're a Good Man\, Charlie Brown
DESCRIPTION:Happiness is… singing together\, learning to whistle\, and coming home again! With charm\, wit\, and heart\, You’re a Good Man Charlie Brown follows the life of America’s most lovable loser. Along with Snoopy and other friends from the Peanuts gang\, Charlie Brown navigates the ups and downs of growing up\, playing football\, flying a kite\, and being friends with just about the best dog there is. Full of memorable songs and iconic moments from the classic Peanuts comic strip\, this charming show is sure to delight audiences of all ages.\r \n \r \n This is a Weston Young Company production performed OUTDOORS. Please bring your own low-profile seating.\r \n The performance is free\, however\, ticket reservations are required.\r \n \r \n Based on The Comic Strip “Peanuts” by Charles M. Schulz\r \n Books\, Lyrics\, and Music by Clark Gesner\r \n Additional Dialogue by Michael Mayer\r \n Additional Music and Lyrics by Andrew Lippa\r \n Directed by Frances Limoncelli\r \n &nbsp\;\r \n \r \n  
LOCATION:182 Westminster W Rd\, Putney\, VT 05346
URL:https://westontheater.org/youre-a-good-man-charlie-brown
END:VEVENT
END:VCALENDAR