BEGIN:VCALENDAR
VERSION:2.0
PRODID:-//DP Pro Event Calendar//3.0.5//EN
BEGIN:VEVENT
UID:40247e29-9716-4da2-bec6-9e83f57db924
DTSTART;TZID=America/New_York:20230706T180000
DTEND;TZID=America/New_York:20230706T190000
DTSTAMP:20230629T164545Z
SUMMARY:Granite Lecture and Film Series Presents Sean Hunter Williams
DESCRIPTION:·       Based in Barre\, Vermont\, Sean Hunter Williams is a sculptor who has created many recognizable pieces around the state\, including the commission he completed for Montpelier High School\, pictured here. Most recently\, Sean has returned as the sculptor-in-residence at the Saint-Gaudens National Historical Park in Cornish\, New Hampshire. Join us and hear Sean discuss his work.\r \n This engaging talk will take place at the Vermont Granite Museum\, located at 7 Jones Brothers Way in Barre\, VT.  For more information\, contact Stephanie Skenyon\, Director of Development\, at development@vtgranitemusuem.org or (802) 249-3897.
LOCATION:
URL:
END:VEVENT
END:VCALENDAR