BEGIN:VCALENDAR
VERSION:2.0
PRODID:-//DP Pro Event Calendar//3.0.5//EN
BEGIN:VEVENT
UID:bfc9f1ad-1b6e-48cc-ac51-724b1542fde7
DTSTART;TZID=America/New_York:20230707T171500
DTEND;TZID=America/New_York:20230707T171500
DTSTAMP:20230629T112800Z
SUMMARY:NECCA at Gallery Walk hosted by Centre Church
DESCRIPTION:The New England Center for Circus Arts presents student demonstrations featuring aspiring performers from the school’s internationally recognized training programs. The Brattleboro based circus education center offers recreational and aspirational classes for all ages and all levels\, and their advanced students will amaze and entertain as they swing\, leap and fly! Two free performances hosted by Centre Church at 5:15 pm and 6 pm as part of Brattleboro's Gallery Walk.
LOCATION:Main St\, Brattleboro\, VT
URL:https://necenterforcircusarts.org/performances/
ATTACH;FMTTYPE=image/jpeg:https://www.ibrattleboro.com/wp-content/uploads/2023/06/13194_1688052480_5029fa9b594d4a83c966040004e747c1-640x427.jpg
END:VEVENT
END:VCALENDAR