BEGIN:VCALENDAR
VERSION:2.0
PRODID:-//DP Pro Event Calendar//3.0.5//EN
BEGIN:VEVENT
UID:6b51ce22-0e4f-468d-b27c-fc0537b6b9aa
DTSTART;TZID=America/New_York:20250312T190000
DTEND;TZID=America/New_York:20250312T190000
DTSTAMP:20250212T131051Z
SUMMARY:NXT Rockumentary Film Series: The Beatles: The First U.S. Visit (1991)
DESCRIPTION:David &amp\; Albert Maysles\, 1h 23m\r \n \r \n Two years after the landmark Lonely Boy brought cinema vérité techniques backstage\, the Maysles Brothers hitched a ride with the Fab Four on their first trans-Atlantic trip. Although Richard Lester would (lightly) fictionalize similar scenarios in A Hard Day’s Night\, no camera before or since ever got so close to capturing John\, Paul\, George and Ringo in anything like their natural state\; you can almost see the walls coming up as they realize how unavoidably public their lives are about to become. This DVD version\, retitled The First U.S. Visit (originally released as What’s Happening! The Beatles in the U.S.A.)\, swaps out some scenes highlighting the drudgery of promo-tour obligations in favor of the band’s Ed Sullivan Show performances. - Rolling Stone\r \n \r \n Co-presented with Next Chapter Records
LOCATION:15 Kimball Hill Road\, Putney\, VT\, 05346
URL:https://www.nextstagearts.org/events-calendar#/events/130547
END:VEVENT
END:VCALENDAR