BEGIN:VCALENDAR
VERSION:2.0
PRODID:-//DP Pro Event Calendar//3.0.5//EN
BEGIN:VEVENT
UID:8826d9d9-e2b6-4c78-aabe-3344ecd9fedb
DTSTART;TZID=America/New_York:20260211T190000
DTEND;TZID=America/New_York:20260211T190000
DTSTAMP:20260124T134333Z
SUMMARY:NXT Rockumentary Film Series
DESCRIPTION:Part of our NXT Rockumentary Film Series\, this feature-length music documentary revisits a landmark rock festival from 1970\, blending powerful live performance footage with an intimate look at the cultural energy\, ambition\, and tension of the era. A must-see for music lovers and fans of rock history.\r \n &nbsp\;\r \n Licensing restrictions prevent us from naming the film publicly. Join our email list or reach out directly to learn what’s screening.
LOCATION:15 Kimball Hill Road\, Putney\, VT\, 05346
URL:https://www.nextstagearts.org/events-calendar#/events/166730
END:VEVENT
END:VCALENDAR