BEGIN:VCALENDAR
VERSION:2.0
PRODID:-//DP Pro Event Calendar//3.0.5//EN
BEGIN:VEVENT
UID:eabe336e-90a7-4e6b-b51c-aea3feb35604
DTSTART;TZID=America/New_York:20260423T083000
DTEND;TZID=America/New_York:20260423T153000
DTSTAMP:20260331T135437Z
SUMMARY:April Break Circus Camp
DESCRIPTION:This spring in April\, kids can explore the exciting world of circus at our youth camp! In a supportive\, non-competitive environment\, they’ll build confidence\, communication skills\, and perseverance while learning to juggle\, perform aerials\, acrobatics\, or clowning. Plus\, they’ll discover circus history and traditions through creative\, fun activities! Age 3 - 17\, half day and full day camps available!
LOCATION:10 Town Crier Dr Brattleboro VT 05301
URL:https://necenterforcircusarts.org/youth-camps/
END:VEVENT
END:VCALENDAR