BEGIN:VCALENDAR
VERSION:2.0
PRODID:-//DP Pro Event Calendar//3.0.5//EN
BEGIN:VEVENT
UID:de537f8b-0ae7-4eee-9bb6-774399abb025
DTSTART;TZID=America/New_York:20260424T193000
DTEND;TZID=America/New_York:20260424T193000
DTSTAMP:20260320T184706Z
SUMMARY:Ablaye Cissoko &amp\; Cyrille Brotto
DESCRIPTION:Experience the transcendent music of kora master Ablaye Cissoko and French accordionist Cyrille Brotto. Their project Djiyo (“water”) flows across cultures\, blending Manding and Occitan traditions into meditative\, lyrical soundscapes. Hailed as “a gem from start to finish” (Songlines UK)\, the duo’s intimate performance is a graceful dialogue of kora\, voice\, and accordion—at times contemplative\, at times quietly ecstatic\, and always deeply human.
LOCATION:15 Kimball Hill Road\, Putney\, VT\, 05346
URL:https://www.nextstagearts.org/events-calendar#/events/176288
END:VEVENT
END:VCALENDAR