BEGIN:VCALENDAR
VERSION:2.0
PRODID:-//DP Pro Event Calendar//3.0.5//EN
BEGIN:VEVENT
UID:ade2e533-9741-4cb4-88b6-57630d212430
DTSTART;TZID=America/New_York:20260425T140000
DTEND;TZID=America/New_York:20260425T140000
DTSTAMP:20260406T141058Z
SUMMARY:WSESD/WSESU Info Meeting on Education Restructuring as per Act 73
DESCRIPTION:The Boards of Windham Southeast School District and Supervisory Union invite you to bring your questions and concerns to a Community Forum which will take place:\r \n \r \n April 25\, 2026\r \n \r \n 2:00 - 4:00 p.m.\r \n \r \n Brattleboro Union High School Auditorium\r \n \r \n Meet with your neighbors in Windham Southeast\, Windham Central\, and Windham Northeast\, as well as with local legislators to learn about forthcoming developments concerning Act 73. This Act will impact the way our school districts are organized\, significantly affecting the education of children in our region.\r \n \r \n Let’s come together to listen to our local legislators present their perspectives. Bring questions and concerns regarding all aspects of these forthcoming developments. The format will include the moderator presenting these significant issues to a panel of our elected legislators.\r \n \r \n -Mergers of Districts and Supervisory Unions\r \n \r \n -Changes in how education is provided\r \n \r \n -Funding of our schools to a foundation formula\r \n \r \n -Possible school closures and their effect on small towns\r \n \r \n -Tax rates and property values\r \n \r \n -Restructuring of School Boards and local Administration\r \n \r \n The issues currently being debated in the House and the Senate will significantly affect how our voices are heard in our respective towns and districts.\r \n \r \n We urge you to attend. This is the time to become more informed so that our voices are heard in Montpelier.\r \n \r \n &nbsp\;\r \n \r \n For further information contact:\r \n \r \n Deborah Stanford\, WSESD Chair: dstanford@wsesdvt.org\r \n \r \n Anne Beekman\, WSESU Chair: abeekman@wsesdvt.org\r \n \r \n Attend in person or via remote access. Find zoom access info on meeting agenda: https://wsesu.org/wsesd-agendas/
LOCATION:131 Fairground Road\, Brattleboro\, VT 05346
URL:
END:VEVENT
END:VCALENDAR