BEGIN:VCALENDAR
VERSION:2.0
PRODID:-//DP Pro Event Calendar//3.0.5//EN
BEGIN:VEVENT
UID:6c904e5b-2901-42dc-b850-05debfc1e65c
DTSTART;TZID=America/New_York:20260425T140000
DTEND;TZID=America/New_York:20260425T140000
DTSTAMP:20260420T100908Z
SUMMARY:BLACKOUT: How I Became White in America
DESCRIPTION:All Souls Unitarian Universalist Church will present the one-woman show BLACKOUT: How I Became White in America on Saturday\, April 25 at 2 pm.  This original show is written and performed by Ethelyn Friend\, actor\, teacher and writer. Her performance reflects one white woman’s process of facing her direct links to slavery\, a somatic\, musical\, and theatrical exploration of denial\, guilt and response.\r \n Proceeds from the Brattleboro performance will go to The Root Social Justice Center.\r \n Tickets are available at www.ascvt.org/blackout/ with a suggested donation of $20.  Reservations are requested\, but tickets will also be available at the door.  All Souls UU Church is located at 29 South Street\, West Brattleboro.
LOCATION:29 South St\, Brattleboro\, VT
URL:www.ascvt.org/blackout/
END:VEVENT
END:VCALENDAR