BEGIN:VCALENDAR
VERSION:2.0
PRODID:-//DP Pro Event Calendar//3.0.5//EN
BEGIN:VEVENT
UID:fab81efa-9959-4625-b3bb-421395cc6cf3
DTSTART;TZID=America/New_York;VALUE=DATE:20260426
DTEND;TZID=America/New_York;VALUE=DATE:20260427
DTSTAMP:20260308T114456Z
SUMMARY:Losing My Edge with Charlie Hunter: One Day Painting Intensive *Plus a Richard Schmid Studio &amp\; Residence Tour with Dinner
DESCRIPTION:Sunday\, April 26\, 2026   10:00 am—5:00 pm      Evening at Schmid Residence 6:00pm-8:30pm\r \n \r \n Workshop Location: Village Arts of Putney\, Vermont   www.VillageArtsofPutney.com\r \n \r \n Tuition: $295  (includes the Schmid Residence tour and dinner)\r \n \r \n Why do we paint what we paint\, and how do we choose to tell that story? Join us for an intensive one-day workshop with Charlie Hunter where we dive into the language and technique of atmospheric\, low-chroma painting.\r \n \r \n For one day\, we will put aside color\, and instead we will rely on edges and values in our paintings - and the results can be a revelation!\r \n \r \n Charlie Hunter is a nationally recognized painter of the post-pastoral American landscape\, known for superb draftsmanship and composition. Hunter utilizes a variety of unorthodox techniques and tools that reference both photographic and painterly traditions.\r \n \r \n Hunter has won first and grand prizes at top plein air events around the country\, including Easton\, Laguna\, and Door County\, and has served as judge or juror at many more. With painter Larry Moore\, Hunter created the En Train Air painting train\, and Hunter’s REASONABLY FINE ART TALKS maintain a fervent following.\r \n \r \n Hunter’s work centers upon rural and small-town America and how the past is evidenced in the present day. Initially a graphic designer of tour posters for musicians such as the Jerry Garcia Band\, Bob Dylan\, and The Clash\, Hunter became a music manager and event producer before turning to painting full-time. Hunter’s 2025 activities include solo shows at McLarry Fine Art in Santa Fe and William Baczek Fine Arts in Northampton\, MA. He is an invited participant at the 2025 ART IN THE OPEN in Wexford\, Ireland\, and a recipient of a fellowship at the Tides Institute in Eastport\, Maine.\r \n \r \n Special Evening Treat!  The Richard Schmid Residence Tour\r \n \r \n The class members will be welcomed into the home and studios of Richard Schmid and Nancy Guzik for an intimate tour of their life and art. This is truly a once-in-a-lifetime opportunity to see many of Richard’s finest works up close. The tour in Walpole will be guided by Nancy and members of the Putney Painters—Richard’s private painting group for the last 20 years of his remarkable life. Proceeds from the tours support the Richard Schmid Fine Art Foundation\, a 501(c)(3) organization whose mission is to preserve his living legacy and personal collection. The Foundation continues to advance Richard’s educational and artistic spirit of excellence and generosity through his art and vision. As Richard often said\,\r \n \r \n “Art has the power to do good.”\r \n \r \n Contact &amp\; Registration: To register and/or receive an in-depth workshop description and materials list (full of Charlie Hunter’s Wit and Wisdom) and links to his pages\, please contact Penelope at VillageArtsofPutney@gmail.com or call 802-246-7742.\r \n 
LOCATION:
URL:VillageArtsofPutney.com
ATTACH;FMTTYPE=image/jpeg:https://www.ibrattleboro.com/wp-content/uploads/2026/03/2204_1772909779_f62c02979901d766f58497bc869895c5-640x311.jpeg
END:VEVENT
END:VCALENDAR