BEGIN:VCALENDAR
VERSION:2.0
PRODID:-//DP Pro Event Calendar//3.0.5//EN
BEGIN:VEVENT
UID:80e0fbd2-ca18-4c61-912c-5219e9d80996
DTSTART;TZID=America/New_York:20260426T120000
DTEND;TZID=America/New_York:20260426T120000
DTSTAMP:20260102T094610Z
SUMMARY:Classical A-Z on WVEW-LP 107.7 FM &amp\; WVEW.org
DESCRIPTION:Classical A-Z  Adventure in Classical Music with KT.  WVEW 107.7. WVEW.org.
LOCATION:
URL:WVEW.org
END:VEVENT
END:VCALENDAR